BEGIN:VCALENDAR
VERSION:2.0
PRODID:-//eventon.com NONSGML v1.0//EN
CALSCALE:GREGORIAN
METHOD:PUBLISH
BEGIN:VEVENT
UID:69e6d74b46abc
DTSTAMP:20260421T014755Z
DTSTART:20240616
DTEND:20240617
LOCATION:
SUMMARY:Father’s Day
DESCRIPTION:Father’s Day\nhttps://thecovenant.org/events/fathers-day/
URL:https://thecovenant.org/events/fathers-day/
END:VEVENT
END:VCALENDAR